BEGIN:VCALENDAR
VERSION:2.0
PRODID:-//Stiftisches Gymnasium Düren - ECPv6.15.20//NONSGML v1.0//EN
CALSCALE:GREGORIAN
METHOD:PUBLISH
X-ORIGINAL-URL:https://www.stiftisches.de
X-WR-CALDESC:Veranstaltungen für Stiftisches Gymnasium Düren
REFRESH-INTERVAL;VALUE=DURATION:PT1H
X-Robots-Tag:noindex
X-PUBLISHED-TTL:PT1H
BEGIN:VTIMEZONE
TZID:Europe/Berlin
BEGIN:DAYLIGHT
TZOFFSETFROM:+0100
TZOFFSETTO:+0200
TZNAME:CEST
DTSTART:20220327T010000
END:DAYLIGHT
BEGIN:STANDARD
TZOFFSETFROM:+0200
TZOFFSETTO:+0100
TZNAME:CET
DTSTART:20221030T010000
END:STANDARD
BEGIN:DAYLIGHT
TZOFFSETFROM:+0100
TZOFFSETTO:+0200
TZNAME:CEST
DTSTART:20230326T010000
END:DAYLIGHT
BEGIN:STANDARD
TZOFFSETFROM:+0200
TZOFFSETTO:+0100
TZNAME:CET
DTSTART:20231029T010000
END:STANDARD
BEGIN:DAYLIGHT
TZOFFSETFROM:+0100
TZOFFSETTO:+0200
TZNAME:CEST
DTSTART:20240331T010000
END:DAYLIGHT
BEGIN:STANDARD
TZOFFSETFROM:+0200
TZOFFSETTO:+0100
TZNAME:CET
DTSTART:20241027T010000
END:STANDARD
END:VTIMEZONE
BEGIN:VEVENT
DTSTART;TZID=Europe/Berlin:20230301T113000
DTEND;TZID=Europe/Berlin:20230301T130000
DTSTAMP:20260425T162121
CREATED:20230113T105338Z
LAST-MODIFIED:20230113T105338Z
UID:30989-1677670200-1677675600@www.stiftisches.de
SUMMARY:Informationsveranstaltung Wahlen DIF 9
DESCRIPTION:
URL:https://www.stiftisches.de/termin/informationsveranstaltung-wahlen-dif-9/
CATEGORIES:Infoveranstaltungen
END:VEVENT
BEGIN:VEVENT
DTSTART;VALUE=DATE:20230306
DTEND;VALUE=DATE:20230307
DTSTAMP:20260425T162121
CREATED:20230113T105533Z
LAST-MODIFIED:20230113T105533Z
UID:30993-1678060800-1678147199@www.stiftisches.de
SUMMARY:Besuch von Meerssener SchülerInnen in Düren
DESCRIPTION:
URL:https://www.stiftisches.de/termin/besuch-von-meerssener-schuelerinnen-in-dueren/
CATEGORIES:Schüleraustausch
END:VEVENT
BEGIN:VEVENT
DTSTART;TZID=Europe/Berlin:20230307T183000
DTEND;TZID=Europe/Berlin:20230307T200000
DTSTAMP:20260425T162121
CREATED:20230113T105702Z
LAST-MODIFIED:20230113T105702Z
UID:30995-1678213800-1678219200@www.stiftisches.de
SUMMARY:Infoveranstaltung für Eltern zur Sprachenwahl für die kommende Jgst.7
DESCRIPTION:Die Veranstaltung findet in der Mensa statt.
URL:https://www.stiftisches.de/termin/infoveranstaltung-fuer-eltern-zur-sprachenwahl-fuer-die-kommende-jgst-7/
CATEGORIES:Infoveranstaltungen
END:VEVENT
BEGIN:VEVENT
DTSTART;VALUE=DATE:20230308
DTEND;VALUE=DATE:20230309
DTSTAMP:20260425T162121
CREATED:20230113T105943Z
LAST-MODIFIED:20230113T105943Z
UID:31001-1678233600-1678319999@www.stiftisches.de
SUMMARY:Lernstanderhebung / VERA 8 Englisch (Jgst.8)
DESCRIPTION:
URL:https://www.stiftisches.de/termin/lernstanderhebung-vera-8-englisch-jgst-8/
CATEGORIES:Prüfungen
END:VEVENT
BEGIN:VEVENT
DTSTART;TZID=Europe/Berlin:20230310T190000
DTEND;TZID=Europe/Berlin:20230310T210000
DTSTAMP:20260425T162121
CREATED:20230113T100517Z
LAST-MODIFIED:20230113T100517Z
UID:30961-1678474800-1678482000@www.stiftisches.de
SUMMARY:Schulkonzert
DESCRIPTION:
URL:https://www.stiftisches.de/termin/schulkonzert-3/
CATEGORIES:Konzerte
END:VEVENT
BEGIN:VEVENT
DTSTART;TZID=Europe/Berlin:20230311T190000
DTEND;TZID=Europe/Berlin:20230311T210000
DTSTAMP:20260425T162121
CREATED:20230113T100554Z
LAST-MODIFIED:20230113T100554Z
UID:30963-1678561200-1678568400@www.stiftisches.de
SUMMARY:Schulkonzert
DESCRIPTION:
URL:https://www.stiftisches.de/termin/schulkonzert-4/
CATEGORIES:Konzerte
END:VEVENT
BEGIN:VEVENT
DTSTART;VALUE=DATE:20230315
DTEND;VALUE=DATE:20230316
DTSTAMP:20260425T162121
CREATED:20230113T105755Z
LAST-MODIFIED:20230113T105755Z
UID:30997-1678838400-1678924799@www.stiftisches.de
SUMMARY:Letzter Termin für die Abgabe der Wahlzettel DIF 9
DESCRIPTION:
URL:https://www.stiftisches.de/termin/letzter-termin-fuer-die-abgabe-der-wahlzettel-dif-9/
END:VEVENT
BEGIN:VEVENT
DTSTART;VALUE=DATE:20230316
DTEND;VALUE=DATE:20230317
DTSTAMP:20260425T162121
CREATED:20230113T105839Z
LAST-MODIFIED:20230113T105839Z
UID:30999-1678924800-1679011199@www.stiftisches.de
SUMMARY:Känguru-Wettbewerb Mathematik
DESCRIPTION:
URL:https://www.stiftisches.de/termin/kaenguru-wettbewerb-mathematik/
CATEGORIES:Wettbewerbe
END:VEVENT
BEGIN:VEVENT
DTSTART;VALUE=DATE:20230316
DTEND;VALUE=DATE:20230317
DTSTAMP:20260425T162121
CREATED:20230113T110025Z
LAST-MODIFIED:20230113T110025Z
UID:31003-1678924800-1679011199@www.stiftisches.de
SUMMARY:Lernstanderhebung / VERA 8 Mathematik (Jgst.8)
DESCRIPTION:
URL:https://www.stiftisches.de/termin/lernstanderhebung-vera-8-mathematik-jgst-8/
CATEGORIES:Prüfungen
END:VEVENT
BEGIN:VEVENT
DTSTART;VALUE=DATE:20230319
DTEND;VALUE=DATE:20230327
DTSTAMP:20260425T162121
CREATED:20230113T110146Z
LAST-MODIFIED:20230113T110146Z
UID:31005-1679184000-1679875199@www.stiftisches.de
SUMMARY:Besuch unserer franzözischen Partnerschule in Düren
DESCRIPTION:
URL:https://www.stiftisches.de/termin/besuch-unserer-franzoezischen-partnerschule-in-dueren/
CATEGORIES:Schüleraustausch
END:VEVENT
BEGIN:VEVENT
DTSTART;TZID=Europe/Berlin:20230327T080000
DTEND;TZID=Europe/Berlin:20230331T170000
DTSTAMP:20260425T162121
CREATED:20230113T110438Z
LAST-MODIFIED:20230113T110438Z
UID:31007-1679904000-1680282000@www.stiftisches.de
SUMMARY:Berufsorientierungswoche EF
DESCRIPTION:
URL:https://www.stiftisches.de/termin/berufsorientierungswoche-ef-3/
CATEGORIES:Berufsorientierung
END:VEVENT
BEGIN:VEVENT
DTSTART;TZID=Europe/Berlin:20230328T193000
DTEND;TZID=Europe/Berlin:20230328T213000
DTSTAMP:20260425T162121
CREATED:20230113T110701Z
LAST-MODIFIED:20230113T110701Z
UID:31009-1680031800-1680039000@www.stiftisches.de
SUMMARY:Lesung und Gespräch mit Olaf Müller
DESCRIPTION:Die Veranstaltung findet in der Stifteria (Mensa) statt.
URL:https://www.stiftisches.de/termin/lesung-und-gespraech-mit-olaf-mueller-2/
CATEGORIES:Lesungen
END:VEVENT
BEGIN:VEVENT
DTSTART;VALUE=DATE:20230330
DTEND;VALUE=DATE:20230331
DTSTAMP:20260425T162121
CREATED:20230113T110734Z
LAST-MODIFIED:20230113T110734Z
UID:31011-1680134400-1680220799@www.stiftisches.de
SUMMARY:2. Berufsfelderkundungstag Jgst.8
DESCRIPTION:
URL:https://www.stiftisches.de/termin/2-berufsfelderkundungstag-jgst-8/
CATEGORIES:Berufsorientierung
END:VEVENT
BEGIN:VEVENT
DTSTART;VALUE=DATE:20230331
DTEND;VALUE=DATE:20230401
DTSTAMP:20260425T162121
CREATED:20230113T110901Z
LAST-MODIFIED:20230113T110901Z
UID:31013-1680220800-1680307199@www.stiftisches.de
SUMMARY:Letzter Unterrichtstag der Q2
DESCRIPTION:Bekanntgabe der Informationen zu den Abiturprüfungen
URL:https://www.stiftisches.de/termin/letzter-unterrichtstag-der-q2/
CATEGORIES:Infoveranstaltungen
END:VEVENT
END:VCALENDAR