BEGIN:VCALENDAR
VERSION:2.0
PRODID:-//Stiftisches Gymnasium Düren - ECPv6.15.20//NONSGML v1.0//EN
CALSCALE:GREGORIAN
METHOD:PUBLISH
X-ORIGINAL-URL:https://www.stiftisches.de
X-WR-CALDESC:Veranstaltungen für Stiftisches Gymnasium Düren
REFRESH-INTERVAL;VALUE=DURATION:PT1H
X-Robots-Tag:noindex
X-PUBLISHED-TTL:PT1H
BEGIN:VTIMEZONE
TZID:Europe/Berlin
BEGIN:DAYLIGHT
TZOFFSETFROM:+0100
TZOFFSETTO:+0200
TZNAME:CEST
DTSTART:20220327T010000
END:DAYLIGHT
BEGIN:STANDARD
TZOFFSETFROM:+0200
TZOFFSETTO:+0100
TZNAME:CET
DTSTART:20221030T010000
END:STANDARD
BEGIN:DAYLIGHT
TZOFFSETFROM:+0100
TZOFFSETTO:+0200
TZNAME:CEST
DTSTART:20230326T010000
END:DAYLIGHT
BEGIN:STANDARD
TZOFFSETFROM:+0200
TZOFFSETTO:+0100
TZNAME:CET
DTSTART:20231029T010000
END:STANDARD
BEGIN:DAYLIGHT
TZOFFSETFROM:+0100
TZOFFSETTO:+0200
TZNAME:CEST
DTSTART:20240331T010000
END:DAYLIGHT
BEGIN:STANDARD
TZOFFSETFROM:+0200
TZOFFSETTO:+0100
TZNAME:CET
DTSTART:20241027T010000
END:STANDARD
END:VTIMEZONE
BEGIN:VEVENT
DTSTART;VALUE=DATE:20230206
DTEND;VALUE=DATE:20230225
DTSTAMP:20260425T180811
CREATED:20230113T101038Z
LAST-MODIFIED:20230113T101038Z
UID:30973-1675641600-1677283199@www.stiftisches.de
SUMMARY:Anmeldezeitraum für das Schuljahr 2023/24
DESCRIPTION:außer an den Karnevalstagen (16.-21.02.)
URL:https://www.stiftisches.de/termin/anmeldezeitraum-fuer-das-schuljahr-2023-24/
END:VEVENT
BEGIN:VEVENT
DTSTART;TZID=Europe/Berlin:20230208T140000
DTEND;TZID=Europe/Berlin:20230208T140000
DTSTAMP:20260425T180811
CREATED:20230118T065217Z
LAST-MODIFIED:20230118T065241Z
UID:31062-1675864800-1675864800@www.stiftisches.de
SUMMARY:Vortrag von Martin Kirchhübel zum „Freiwilligendienst weltwärts“ in Indien
DESCRIPTION:Aushang Vortrag Freiwilligendienst
URL:https://www.stiftisches.de/termin/vortrag-von-martin-kirchhuebel-zum-freiwilligendienst-weltwaerts-in-indien/
LOCATION:N005
CATEGORIES:Infoveranstaltungen
END:VEVENT
BEGIN:VEVENT
DTSTART;VALUE=DATE:20230216
DTEND;VALUE=DATE:20230217
DTSTAMP:20260425T180811
CREATED:20230113T101149Z
LAST-MODIFIED:20230216T090649Z
UID:30975-1676505600-1676591999@www.stiftisches.de
SUMMARY:Weiberfastnacht
DESCRIPTION:Karnevalsfeier für die Jahrgangsstufen 5 und 6 in der Aula. Der Unterricht endet um 12:40 Uhr.
URL:https://www.stiftisches.de/termin/weiberfastnacht-2/
CATEGORIES:Feiern
END:VEVENT
BEGIN:VEVENT
DTSTART;VALUE=DATE:20230217
DTEND;VALUE=DATE:20230218
DTSTAMP:20260425T180811
CREATED:20230113T095543Z
LAST-MODIFIED:20230113T095543Z
UID:30933-1676592000-1676678399@www.stiftisches.de
SUMMARY:Beweglicher Ferientag
DESCRIPTION:
URL:https://www.stiftisches.de/termin/beweglicher-ferientag-3/
END:VEVENT
BEGIN:VEVENT
DTSTART;VALUE=DATE:20230220
DTEND;VALUE=DATE:20230221
DTSTAMP:20260425T180811
CREATED:20230113T095617Z
LAST-MODIFIED:20230113T095617Z
UID:30935-1676851200-1676937599@www.stiftisches.de
SUMMARY:Beweglicher Ferientag (Rosenmontag)
DESCRIPTION:
URL:https://www.stiftisches.de/termin/beweglicher-ferientag-rosenmontag-4/
END:VEVENT
BEGIN:VEVENT
DTSTART;VALUE=DATE:20230221
DTEND;VALUE=DATE:20230222
DTSTAMP:20260425T180811
CREATED:20230113T095654Z
LAST-MODIFIED:20230113T095654Z
UID:30937-1676937600-1677023999@www.stiftisches.de
SUMMARY:Beweglicher Ferientag (Veilchendienstag)
DESCRIPTION:
URL:https://www.stiftisches.de/termin/beweglicher-ferientag-veilchendienstag-2/
END:VEVENT
BEGIN:VEVENT
DTSTART;VALUE=DATE:20230222
DTEND;VALUE=DATE:20230223
DTSTAMP:20260425T180811
CREATED:20221027T091831Z
LAST-MODIFIED:20221027T091831Z
UID:30586-1677024000-1677110399@www.stiftisches.de
SUMMARY:„Wege nach dem Abitur“ – Workshop zur Berufsorientierung für die Jgst. Q1
DESCRIPTION:
URL:https://www.stiftisches.de/termin/wege-nach-dem-abitur-workshop-zur-berufsorientierung-fuer-die-jgst-q1/
CATEGORIES:Berufsorientierung
END:VEVENT
BEGIN:VEVENT
DTSTART;VALUE=DATE:20230222
DTEND;VALUE=DATE:20230223
DTSTAMP:20260425T180811
CREATED:20221027T092105Z
LAST-MODIFIED:20221027T092105Z
UID:30591-1677024000-1677110399@www.stiftisches.de
SUMMARY:2. Pädagogischer Tag (unterrichtsfrei)
DESCRIPTION:
URL:https://www.stiftisches.de/termin/2-paedagogischer-tag-unterrichtsfrei-2/
CATEGORIES:Konferenzen
END:VEVENT
BEGIN:VEVENT
DTSTART;VALUE=DATE:20230222
DTEND;VALUE=DATE:20230223
DTSTAMP:20260425T180811
CREATED:20230113T101312Z
LAST-MODIFIED:20230113T101312Z
UID:30977-1677024000-1677110399@www.stiftisches.de
SUMMARY:Info-Veranstaltung für die Q1: Wege nach dem Abitur
DESCRIPTION:Workshop „Standortbestimmung in der Berufsorientierung“
URL:https://www.stiftisches.de/termin/info-veranstaltung-fuer-die-q1-wege-nach-dem-abitur/
CATEGORIES:Berufsorientierung,Infoveranstaltungen
END:VEVENT
BEGIN:VEVENT
DTSTART;VALUE=DATE:20230227
DTEND;VALUE=DATE:20230228
DTSTAMP:20260425T180811
CREATED:20230113T101550Z
LAST-MODIFIED:20230113T101550Z
UID:30983-1677456000-1677542399@www.stiftisches.de
SUMMARY:Abgabe der Facharbeiten
DESCRIPTION:
URL:https://www.stiftisches.de/termin/abgabe-der-facharbeiten-2/
END:VEVENT
BEGIN:VEVENT
DTSTART;VALUE=DATE:20230228
DTEND;VALUE=DATE:20230301
DTSTAMP:20260425T180811
CREATED:20230113T101610Z
LAST-MODIFIED:20230113T101610Z
UID:30985-1677542400-1677628799@www.stiftisches.de
SUMMARY:Abgabe der Facharbeiten
DESCRIPTION:
URL:https://www.stiftisches.de/termin/abgabe-der-facharbeiten-3/
END:VEVENT
BEGIN:VEVENT
DTSTART;TZID=Europe/Berlin:20230228T075000
DTEND;TZID=Europe/Berlin:20230228T113000
DTSTAMP:20260425T180811
CREATED:20230113T101709Z
LAST-MODIFIED:20230113T101709Z
UID:30987-1677570600-1677583800@www.stiftisches.de
SUMMARY:Lernstanderhebungen / VERA 8 Detusch (Jgst.8)
DESCRIPTION:
URL:https://www.stiftisches.de/termin/lernstanderhebungen-vera-8-detusch-jgst-8/
CATEGORIES:Prüfungen
END:VEVENT
END:VCALENDAR