BEGIN:VCALENDAR
VERSION:2.0
PRODID:-//Stiftisches Gymnasium Düren - ECPv6.15.20//NONSGML v1.0//EN
CALSCALE:GREGORIAN
METHOD:PUBLISH
X-ORIGINAL-URL:https://www.stiftisches.de
X-WR-CALDESC:Veranstaltungen für Stiftisches Gymnasium Düren
REFRESH-INTERVAL;VALUE=DURATION:PT1H
X-Robots-Tag:noindex
X-PUBLISHED-TTL:PT1H
BEGIN:VTIMEZONE
TZID:Europe/Berlin
BEGIN:DAYLIGHT
TZOFFSETFROM:+0100
TZOFFSETTO:+0200
TZNAME:CEST
DTSTART:20210328T010000
END:DAYLIGHT
BEGIN:STANDARD
TZOFFSETFROM:+0200
TZOFFSETTO:+0100
TZNAME:CET
DTSTART:20211031T010000
END:STANDARD
BEGIN:DAYLIGHT
TZOFFSETFROM:+0100
TZOFFSETTO:+0200
TZNAME:CEST
DTSTART:20220327T010000
END:DAYLIGHT
BEGIN:STANDARD
TZOFFSETFROM:+0200
TZOFFSETTO:+0100
TZNAME:CET
DTSTART:20221030T010000
END:STANDARD
BEGIN:DAYLIGHT
TZOFFSETFROM:+0100
TZOFFSETTO:+0200
TZNAME:CEST
DTSTART:20230326T010000
END:DAYLIGHT
BEGIN:STANDARD
TZOFFSETFROM:+0200
TZOFFSETTO:+0100
TZNAME:CET
DTSTART:20231029T010000
END:STANDARD
BEGIN:DAYLIGHT
TZOFFSETFROM:+0100
TZOFFSETTO:+0200
TZNAME:CEST
DTSTART:20240331T010000
END:DAYLIGHT
BEGIN:STANDARD
TZOFFSETFROM:+0200
TZOFFSETTO:+0100
TZNAME:CET
DTSTART:20241027T010000
END:STANDARD
END:VTIMEZONE
BEGIN:VEVENT
DTSTART;VALUE=DATE:20221223
DTEND;VALUE=DATE:20230107
DTSTAMP:20260425T195150
CREATED:20220821T110600Z
LAST-MODIFIED:20220821T110600Z
UID:30134-1671753600-1673049599@www.stiftisches.de
SUMMARY:Weihnachtsferien
DESCRIPTION:
URL:https://www.stiftisches.de/termin/weihnachtsferien-4/
CATEGORIES:Ferien
END:VEVENT
BEGIN:VEVENT
DTSTART;VALUE=DATE:20230109
DTEND;VALUE=DATE:20230110
DTSTAMP:20260425T195150
CREATED:20220821T111414Z
LAST-MODIFIED:20220821T111414Z
UID:30152-1673222400-1673308799@www.stiftisches.de
SUMMARY:Letzter Termin Umwahl ER/KR/PP für das 2. Halbjahr
DESCRIPTION:Bitte schriftlich an Frau Wilms.
URL:https://www.stiftisches.de/termin/letzter-termin-umwahl-er-kr-pp-fuer-das-2-halbjahr-3/
END:VEVENT
BEGIN:VEVENT
DTSTART;VALUE=DATE:20230110
DTEND;VALUE=DATE:20230111
DTSTAMP:20260425T195150
CREATED:20220821T111522Z
LAST-MODIFIED:20220821T111522Z
UID:30154-1673308800-1673395199@www.stiftisches.de
SUMMARY:Endgültige Festlegung des Themas für die Facharbeit Q1
DESCRIPTION:Beginn der sechswöchigen Arbeitszeit
URL:https://www.stiftisches.de/termin/endgueltige-festlegung-des-themas-fuer-die-facharbeit-q1/
END:VEVENT
BEGIN:VEVENT
DTSTART;VALUE=DATE:20230113
DTEND;VALUE=DATE:20230114
DTSTAMP:20260425T195150
CREATED:20230113T113007Z
LAST-MODIFIED:20230113T113007Z
UID:31041-1673568000-1673654399@www.stiftisches.de
SUMMARY:3. Berufsfelderkundungstag Jgst.8
DESCRIPTION:
URL:https://www.stiftisches.de/termin/3-berufsfelderkundungstag-jgst-8/
CATEGORIES:Berufsorientierung
END:VEVENT
BEGIN:VEVENT
DTSTART;VALUE=DATE:20230116
DTEND;VALUE=DATE:20230117
DTSTAMP:20260425T195150
CREATED:20220821T111703Z
LAST-MODIFIED:20220821T111703Z
UID:30158-1673827200-1673913599@www.stiftisches.de
SUMMARY:1. Berufsfelderkundungstag der Jgst.8
DESCRIPTION:
URL:https://www.stiftisches.de/termin/1-berufsfelderkundungstag-der-jgst-8/
CATEGORIES:Berufsorientierung
END:VEVENT
BEGIN:VEVENT
DTSTART;TZID=Europe/Berlin:20230116T080000
DTEND;TZID=Europe/Berlin:20230116T143000
DTSTAMP:20260425T195150
CREATED:20220821T111620Z
LAST-MODIFIED:20220821T111620Z
UID:30156-1673856000-1673879400@www.stiftisches.de
SUMMARY:Zeugniskonferenzen
DESCRIPTION:Unterrichtsfrei
URL:https://www.stiftisches.de/termin/zeugniskonferenzen-4/
CATEGORIES:Konferenzen
END:VEVENT
BEGIN:VEVENT
DTSTART;VALUE=DATE:20230120
DTEND;VALUE=DATE:20230121
DTSTAMP:20260425T195150
CREATED:20220821T110513Z
LAST-MODIFIED:20220821T110513Z
UID:30132-1674172800-1674259199@www.stiftisches.de
SUMMARY:Zeugnisausgabe Jgst. 5-Q1
DESCRIPTION:Zeugnisausgabe am Ende der dritten Stunde.
URL:https://www.stiftisches.de/termin/zeugnisausgabe-jgst-5-q1/
END:VEVENT
BEGIN:VEVENT
DTSTART;VALUE=DATE:20230123
DTEND;VALUE=DATE:20230124
DTSTAMP:20260425T195150
CREATED:20221027T092030Z
LAST-MODIFIED:20221027T092030Z
UID:30589-1674432000-1674518399@www.stiftisches.de
SUMMARY:1. Pädagogischer Tag (unterrichtsfrei)
DESCRIPTION:
URL:https://www.stiftisches.de/termin/1-paedagogischer-tag-unterrichtsfrei-2/
CATEGORIES:Konferenzen
END:VEVENT
BEGIN:VEVENT
DTSTART;VALUE=DATE:20230123
DTEND;VALUE=DATE:20230124
DTSTAMP:20260425T195150
CREATED:20230113T100338Z
LAST-MODIFIED:20230113T100338Z
UID:30957-1674432000-1674518399@www.stiftisches.de
SUMMARY:Pädagogischer Tag
DESCRIPTION:unterrichtsfrei
URL:https://www.stiftisches.de/termin/paedagogischer-tag-2/
END:VEVENT
BEGIN:VEVENT
DTSTART;VALUE=DATE:20230124
DTEND;VALUE=DATE:20230127
DTSTAMP:20260425T195150
CREATED:20221027T092155Z
LAST-MODIFIED:20221027T093929Z
UID:30593-1674518400-1674777599@www.stiftisches.de
SUMMARY:Religiöse Orientierungstage für Schülerinnen und Schüler der Jgst. EF
DESCRIPTION:
URL:https://www.stiftisches.de/termin/religioese-orientierungstage-fuer-schuelerinnen-und-schueler-der-jgst-ef-2/
CATEGORIES:Fahrten
END:VEVENT
BEGIN:VEVENT
DTSTART;VALUE=DATE:20230124
DTEND;VALUE=DATE:20230127
DTSTAMP:20260425T195150
CREATED:20230113T100653Z
LAST-MODIFIED:20230113T100653Z
UID:30965-1674518400-1674777599@www.stiftisches.de
SUMMARY:Religiöse Orientierungstage der Jgst. EF
DESCRIPTION:
URL:https://www.stiftisches.de/termin/religioese-orientierungstage-der-jgst-ef-2/
CATEGORIES:Fahrten
END:VEVENT
BEGIN:VEVENT
DTSTART;VALUE=DATE:20230124
DTEND;VALUE=DATE:20230128
DTSTAMP:20260425T195150
CREATED:20230113T100729Z
LAST-MODIFIED:20230113T100729Z
UID:30967-1674518400-1674863999@www.stiftisches.de
SUMMARY:Orchesterfahrt nach Rurberg
DESCRIPTION:
URL:https://www.stiftisches.de/termin/orchesterfahrt-nach-rurberg-4/
CATEGORIES:Fahrten
END:VEVENT
BEGIN:VEVENT
DTSTART;TZID=Europe/Berlin:20230124T080000
DTEND;TZID=Europe/Berlin:20230127T170000
DTSTAMP:20260425T195150
CREATED:20220819T172529Z
LAST-MODIFIED:20220819T172529Z
UID:30124-1674547200-1674838800@www.stiftisches.de
SUMMARY:Orchesterfahrt nach Rurberg
DESCRIPTION:
URL:https://www.stiftisches.de/termin/orchesterfahrt-nach-rurberg-3/
CATEGORIES:Fahrten
END:VEVENT
BEGIN:VEVENT
DTSTART;VALUE=DATE:20230126
DTEND;VALUE=DATE:20230127
DTSTAMP:20260425T195150
CREATED:20230113T100827Z
LAST-MODIFIED:20230113T100827Z
UID:30969-1674691200-1674777599@www.stiftisches.de
SUMMARY:Bundeswettbewerb Fremdsprachen Latein (Jgst.9 und EF)
DESCRIPTION:
URL:https://www.stiftisches.de/termin/bundeswettbewerb-fremdsprachen-latein-jgst-9-und-ef-2/
CATEGORIES:Wettbewerbe
END:VEVENT
BEGIN:VEVENT
DTSTART;TZID=Europe/Berlin:20230126T160000
DTEND;TZID=Europe/Berlin:20230126T170000
DTSTAMP:20260425T195150
CREATED:20230105T154832Z
LAST-MODIFIED:20230105T154832Z
UID:30904-1674748800-1674752400@www.stiftisches.de
SUMMARY:Gedenkveranstaltung zum Holocaust-Gedenktag
DESCRIPTION:Gemeinsame Veranstaltung mit der Zeitzeugin Jeanette Hoffmann und unserer israelischen Partnerschule\, der Nesher Highschool.
URL:https://www.stiftisches.de/termin/gedenkveranstaltung-zum-holocaust-gedenktag-2/
END:VEVENT
BEGIN:VEVENT
DTSTART;VALUE=DATE:20230128
DTEND;VALUE=DATE:20230129
DTSTAMP:20260425T195150
CREATED:20230113T100925Z
LAST-MODIFIED:20230113T100925Z
UID:30971-1674864000-1674950399@www.stiftisches.de
SUMMARY:DELF-Prüfung
DESCRIPTION:mündliche Prüfung am KKG Aachen
URL:https://www.stiftisches.de/termin/delf-pruefung/
CATEGORIES:Wettbewerbe
END:VEVENT
END:VCALENDAR