BEGIN:VCALENDAR
VERSION:2.0
PRODID:-//Stiftisches Gymnasium Düren - ECPv6.15.20//NONSGML v1.0//EN
CALSCALE:GREGORIAN
METHOD:PUBLISH
X-WR-CALNAME:Stiftisches Gymnasium Düren
X-ORIGINAL-URL:https://www.stiftisches.de
X-WR-CALDESC:Veranstaltungen für Stiftisches Gymnasium Düren
REFRESH-INTERVAL;VALUE=DURATION:PT1H
X-Robots-Tag:noindex
X-PUBLISHED-TTL:PT1H
BEGIN:VTIMEZONE
TZID:Europe/Berlin
BEGIN:DAYLIGHT
TZOFFSETFROM:+0100
TZOFFSETTO:+0200
TZNAME:CEST
DTSTART:20210328T010000
END:DAYLIGHT
BEGIN:STANDARD
TZOFFSETFROM:+0200
TZOFFSETTO:+0100
TZNAME:CET
DTSTART:20211031T010000
END:STANDARD
BEGIN:DAYLIGHT
TZOFFSETFROM:+0100
TZOFFSETTO:+0200
TZNAME:CEST
DTSTART:20220327T010000
END:DAYLIGHT
BEGIN:STANDARD
TZOFFSETFROM:+0200
TZOFFSETTO:+0100
TZNAME:CET
DTSTART:20221030T010000
END:STANDARD
BEGIN:DAYLIGHT
TZOFFSETFROM:+0100
TZOFFSETTO:+0200
TZNAME:CEST
DTSTART:20230326T010000
END:DAYLIGHT
BEGIN:STANDARD
TZOFFSETFROM:+0200
TZOFFSETTO:+0100
TZNAME:CET
DTSTART:20231029T010000
END:STANDARD
END:VTIMEZONE
BEGIN:VEVENT
DTSTART;VALUE=DATE:20221101
DTEND;VALUE=DATE:20221102
DTSTAMP:20260425T194950
CREATED:20220819T171808Z
LAST-MODIFIED:20220819T171808Z
UID:30104-1667260800-1667347199@www.stiftisches.de
SUMMARY:Allerheiligen
DESCRIPTION:unterrichtsfrei
URL:https://www.stiftisches.de/termin/allerheiligen-2/
END:VEVENT
BEGIN:VEVENT
DTSTART;VALUE=DATE:20221104
DTEND;VALUE=DATE:20221105
DTSTAMP:20260425T194950
CREATED:20220819T171853Z
LAST-MODIFIED:20220819T171853Z
UID:30106-1667520000-1667520000@www.stiftisches.de
SUMMARY:Quartalsende EF und Q1
DESCRIPTION:
URL:https://www.stiftisches.de/termin/quartalsende-ef-und-q1-2/
END:VEVENT
BEGIN:VEVENT
DTSTART;TZID=Europe/Berlin:20221107T140000
DTEND;TZID=Europe/Berlin:20221107T140000
DTSTAMP:20260425T194950
CREATED:20221011T094828Z
LAST-MODIFIED:20221011T094828Z
UID:30482-1667829600-1667829600@www.stiftisches.de
SUMMARY:Vortrag zum Programm „work & travel“ in Australien
DESCRIPTION:Ira Bahn\, work & travel und wwoofing in Australien\, Bali und Neuseeland (Erfahrungen\, Organisation\, Finanzierung\, Aufgabenbereiche\, Alternativen\, Tipps)
URL:https://www.stiftisches.de/termin/vortrag-zum-programm-work-travel-in-australien/
LOCATION:N005
CATEGORIES:Vorträge
END:VEVENT
BEGIN:VEVENT
DTSTART;TZID=Europe/Berlin:20221108T150000
DTEND;TZID=Europe/Berlin:20221108T150000
DTSTAMP:20260425T194950
CREATED:20220819T171958Z
LAST-MODIFIED:20220819T171958Z
UID:30108-1667919600-1667919600@www.stiftisches.de
SUMMARY:Latein-AG für Grundschülerinnen und Grundschüler
DESCRIPTION:
URL:https://www.stiftisches.de/termin/latein-ag-fuer-grundschuelerinnen-und-grundschueler-2/
END:VEVENT
BEGIN:VEVENT
DTSTART;TZID=Europe/Berlin:20221109T190000
DTEND;TZID=Europe/Berlin:20221109T190000
DTSTAMP:20260425T194950
CREATED:20220819T172226Z
LAST-MODIFIED:20220819T172226Z
UID:30116-1668020400-1668020400@www.stiftisches.de
SUMMARY:Mahnwache an der Rückriem-Stele vor dem Amtsgericht
DESCRIPTION:
URL:https://www.stiftisches.de/termin/mahnwache-an-der-rueckriem-stele-vor-dem-amtsgericht-2/
END:VEVENT
BEGIN:VEVENT
DTSTART;VALUE=DATE:20221110
DTEND;VALUE=DATE:20221111
DTSTAMP:20260425T194950
CREATED:20220824T200116Z
LAST-MODIFIED:20220824T200116Z
UID:30224-1668038400-1668124799@www.stiftisches.de
SUMMARY:Kreisrunde der Mathematik-Olympiade
DESCRIPTION:
URL:https://www.stiftisches.de/termin/kreisrunde-der-mathematik-olympiade/
CATEGORIES:Wettbewerbe
END:VEVENT
BEGIN:VEVENT
DTSTART;VALUE=DATE:20221114
DTEND;VALUE=DATE:20221115
DTSTAMP:20260425T194950
CREATED:20220819T172356Z
LAST-MODIFIED:20220819T172356Z
UID:30120-1668384000-1668470399@www.stiftisches.de
SUMMARY:Workshop Mobbingprävention Jgst.5
DESCRIPTION:
URL:https://www.stiftisches.de/termin/workshop-mobbingpraevention-jgst-5/
END:VEVENT
BEGIN:VEVENT
DTSTART;TZID=Europe/Berlin:20221115T150000
DTEND;TZID=Europe/Berlin:20221115T150000
DTSTAMP:20260425T194950
CREATED:20220819T172028Z
LAST-MODIFIED:20220819T172028Z
UID:30110-1668524400-1668524400@www.stiftisches.de
SUMMARY:Latein-AG für Grundschülerinnen und Grundschüler
DESCRIPTION:
URL:https://www.stiftisches.de/termin/latein-ag-fuer-grundschuelerinnen-und-grundschueler-3/
END:VEVENT
BEGIN:VEVENT
DTSTART;TZID=Europe/Berlin:20221117T190000
DTEND;TZID=Europe/Berlin:20221117T190000
DTSTAMP:20260425T194950
CREATED:20221011T072944Z
LAST-MODIFIED:20221017T180001Z
UID:30475-1668711600-1668711600@www.stiftisches.de
SUMMARY:Mitgliederversammlung des Fördervereins
DESCRIPTION:
URL:https://www.stiftisches.de/termin/mitgliederversammlung-des-foerdervereins-2/
LOCATION:N005
END:VEVENT
BEGIN:VEVENT
DTSTART;TZID=Europe/Berlin:20221118T150000
DTEND;TZID=Europe/Berlin:20221118T190000
DTSTAMP:20260425T194950
CREATED:20220819T172316Z
LAST-MODIFIED:20220819T172316Z
UID:30118-1668783600-1668798000@www.stiftisches.de
SUMMARY:Elternsprechtag
DESCRIPTION:
URL:https://www.stiftisches.de/termin/elternsprechtag-5/
CATEGORIES:Elternsprechtag
END:VEVENT
BEGIN:VEVENT
DTSTART;TZID=Europe/Berlin:20221121T080000
DTEND;TZID=Europe/Berlin:20221124T170000
DTSTAMP:20260425T194950
CREATED:20220819T172438Z
LAST-MODIFIED:20220819T172438Z
UID:30122-1669017600-1669309200@www.stiftisches.de
SUMMARY:Potentialanalyse Jgst.8
DESCRIPTION:
URL:https://www.stiftisches.de/termin/potentialanalyse-jgst-8/
CATEGORIES:Berufsorientierung
END:VEVENT
BEGIN:VEVENT
DTSTART;VALUE=DATE:20221122
DTEND;VALUE=DATE:20221123
DTSTAMP:20260425T194950
CREATED:20220821T110729Z
LAST-MODIFIED:20220821T110729Z
UID:30136-1669075200-1669161599@www.stiftisches.de
SUMMARY:Theaterstück "Alles kaputt" für die Jgst.6
DESCRIPTION:
URL:https://www.stiftisches.de/termin/theaterstueck-alles-kaputt-fuer-die-jgst-6/
CATEGORIES:Theateraufführungen
END:VEVENT
BEGIN:VEVENT
DTSTART;TZID=Europe/Berlin:20221122T150000
DTEND;TZID=Europe/Berlin:20221122T150000
DTSTAMP:20260425T194950
CREATED:20220819T172059Z
LAST-MODIFIED:20220819T172059Z
UID:30112-1669129200-1669129200@www.stiftisches.de
SUMMARY:Latein-AG für Grundschülerinnen und Grundschüler
DESCRIPTION:
URL:https://www.stiftisches.de/termin/latein-ag-fuer-grundschuelerinnen-und-grundschueler-4/
END:VEVENT
BEGIN:VEVENT
DTSTART;VALUE=DATE:20221123
DTEND;VALUE=DATE:20221124
DTSTAMP:20260425T194950
CREATED:20220821T110807Z
LAST-MODIFIED:20220821T110807Z
UID:30138-1669161600-1669247999@www.stiftisches.de
SUMMARY:Theaterstück "Alles kaputt" für die Jgst.5
DESCRIPTION:
URL:https://www.stiftisches.de/termin/theaterstueck-alles-kaputt-fuer-die-jgst-5/
CATEGORIES:Theateraufführungen
END:VEVENT
BEGIN:VEVENT
DTSTART;TZID=Europe/Berlin:20221129T150000
DTEND;TZID=Europe/Berlin:20221129T150000
DTSTAMP:20260425T194950
CREATED:20220819T172128Z
LAST-MODIFIED:20220819T172128Z
UID:30114-1669734000-1669734000@www.stiftisches.de
SUMMARY:Latein-AG für Grundschülerinnen und Grundschüler
DESCRIPTION:
URL:https://www.stiftisches.de/termin/latein-ag-fuer-grundschuelerinnen-und-grundschueler-5/
END:VEVENT
BEGIN:VEVENT
DTSTART;TZID=Europe/Berlin:20221130T094000
DTEND;TZID=Europe/Berlin:20221130T130500
DTSTAMP:20260425T194950
CREATED:20220821T110938Z
LAST-MODIFIED:20220821T110938Z
UID:30140-1669801200-1669813500@www.stiftisches.de
SUMMARY:Workshop zur Mobbing-Prävention\, Jgst. 5
DESCRIPTION:
URL:https://www.stiftisches.de/termin/workshop-zur-mobbing-praevention-jgst-5/
END:VEVENT
END:VCALENDAR