BEGIN:VCALENDAR
VERSION:2.0
PRODID:-//Stiftisches Gymnasium Düren - ECPv6.15.20//NONSGML v1.0//EN
CALSCALE:GREGORIAN
METHOD:PUBLISH
X-ORIGINAL-URL:https://www.stiftisches.de
X-WR-CALDESC:Veranstaltungen für Stiftisches Gymnasium Düren
REFRESH-INTERVAL;VALUE=DURATION:PT1H
X-Robots-Tag:noindex
X-PUBLISHED-TTL:PT1H
BEGIN:VTIMEZONE
TZID:Europe/Berlin
BEGIN:DAYLIGHT
TZOFFSETFROM:+0100
TZOFFSETTO:+0200
TZNAME:CEST
DTSTART:20210328T010000
END:DAYLIGHT
BEGIN:STANDARD
TZOFFSETFROM:+0200
TZOFFSETTO:+0100
TZNAME:CET
DTSTART:20211031T010000
END:STANDARD
BEGIN:DAYLIGHT
TZOFFSETFROM:+0100
TZOFFSETTO:+0200
TZNAME:CEST
DTSTART:20220327T010000
END:DAYLIGHT
BEGIN:STANDARD
TZOFFSETFROM:+0200
TZOFFSETTO:+0100
TZNAME:CET
DTSTART:20221030T010000
END:STANDARD
BEGIN:DAYLIGHT
TZOFFSETFROM:+0100
TZOFFSETTO:+0200
TZNAME:CEST
DTSTART:20230326T010000
END:DAYLIGHT
BEGIN:STANDARD
TZOFFSETFROM:+0200
TZOFFSETTO:+0100
TZNAME:CET
DTSTART:20231029T010000
END:STANDARD
END:VTIMEZONE
BEGIN:VEVENT
DTSTART;VALUE=DATE:20220903
DTEND;VALUE=DATE:20220904
DTSTAMP:20260425T233140
CREATED:20220406T070226Z
LAST-MODIFIED:20220429T102507Z
UID:29356-1662163200-1662249599@www.stiftisches.de
SUMMARY:Stift-Feier
DESCRIPTION:14 bis 18 Uhr: Schulfest auf dem Schulgelände\nab 20 Uhr: Party der Ehemaligen im „Haus für Gürzenich“ (Papiermühle 13\, 52349 Düren)\nAnmeldung unter: https://www.stiftisches.de/schulleben/stift-feier/
URL:https://www.stiftisches.de/termin/stift-feier/
CATEGORIES:Feiern
END:VEVENT
BEGIN:VEVENT
DTSTART;VALUE=DATE:20220907
DTEND;VALUE=DATE:20220908
DTSTAMP:20260425T233140
CREATED:20220819T100838Z
LAST-MODIFIED:20220819T100838Z
UID:30057-1662508800-1662595199@www.stiftisches.de
SUMMARY:Schulrunde der Mathematik-Olympiade
DESCRIPTION:
URL:https://www.stiftisches.de/termin/schulrunde-der-mathematik-olympiade/
END:VEVENT
BEGIN:VEVENT
DTSTART;TZID=Europe/Berlin:20220909T075000
DTEND;TZID=Europe/Berlin:20220909T130500
DTSTAMP:20260425T233140
CREATED:20220819T100941Z
LAST-MODIFIED:20220819T100941Z
UID:30059-1662709800-1662728700@www.stiftisches.de
SUMMARY:Teambuildung Jgst.6 (3 Klassen)
DESCRIPTION:
URL:https://www.stiftisches.de/termin/teambuildung-jgst-6-3-klassen/
END:VEVENT
BEGIN:VEVENT
DTSTART;VALUE=DATE:20220911
DTEND;VALUE=DATE:20220912
DTSTAMP:20260425T233140
CREATED:20220819T101032Z
LAST-MODIFIED:20220819T103227Z
UID:30061-1662854400-1662940799@www.stiftisches.de
SUMMARY:Tag des offenen Denkmals
DESCRIPTION:Die Stadtmauer-AG bietet wie in jedem Jahr Führungen an und freut sich auf zahlreiche Besucher!
URL:https://www.stiftisches.de/termin/tag-des-offenen-denkmals-3/
END:VEVENT
BEGIN:VEVENT
DTSTART;TZID=Europe/Berlin:20220912T080000
DTEND;TZID=Europe/Berlin:20220916T170000
DTSTAMP:20260425T233140
CREATED:20220819T101113Z
LAST-MODIFIED:20220819T101113Z
UID:30063-1662969600-1663347600@www.stiftisches.de
SUMMARY:Studienfahrten Q2
DESCRIPTION:
URL:https://www.stiftisches.de/termin/studienfahrten-q2/
END:VEVENT
BEGIN:VEVENT
DTSTART;VALUE=DATE:20220914
DTEND;VALUE=DATE:20220915
DTSTAMP:20260425T233140
CREATED:20220819T101156Z
LAST-MODIFIED:20220819T101156Z
UID:30065-1663113600-1663199999@www.stiftisches.de
SUMMARY:Wandertag
DESCRIPTION:
URL:https://www.stiftisches.de/termin/wandertag-3/
END:VEVENT
BEGIN:VEVENT
DTSTART;VALUE=DATE:20220914
DTEND;VALUE=DATE:20220915
DTSTAMP:20260425T233140
CREATED:20220819T101248Z
LAST-MODIFIED:20220819T101248Z
UID:30067-1663113600-1663199999@www.stiftisches.de
SUMMARY:Informationsveranstaltung für die Q1 zur Facharbeit
DESCRIPTION:
URL:https://www.stiftisches.de/termin/informationsveranstaltung-fuer-die-q1-zur-facharbeit/
END:VEVENT
BEGIN:VEVENT
DTSTART;TZID=Europe/Berlin:20220916T075000
DTEND;TZID=Europe/Berlin:20220916T130500
DTSTAMP:20260425T233140
CREATED:20220819T101357Z
LAST-MODIFIED:20220819T101357Z
UID:30069-1663314600-1663333500@www.stiftisches.de
SUMMARY:Teambuilding Jgst.6 (zwei Klassen)
DESCRIPTION:
URL:https://www.stiftisches.de/termin/teambuilding-jgst-6-zwei-klassen/
END:VEVENT
BEGIN:VEVENT
DTSTART;TZID=Europe/Berlin:20220928T180000
DTEND;TZID=Europe/Berlin:20220928T200000
DTSTAMP:20260425T233140
CREATED:20220819T101457Z
LAST-MODIFIED:20220819T101457Z
UID:30071-1664388000-1664395200@www.stiftisches.de
SUMMARY:Elternabend zum Thema Medien
DESCRIPTION:
URL:https://www.stiftisches.de/termin/elternabend-zum-thema-medien-2/
END:VEVENT
BEGIN:VEVENT
DTSTART;TZID=Europe/Berlin:20220929T075000
DTEND;TZID=Europe/Berlin:20220929T130500
DTSTAMP:20260425T233140
CREATED:20220802T083302Z
LAST-MODIFIED:20220802T083302Z
UID:29888-1664437800-1664456700@www.stiftisches.de
SUMMARY:Workshop der Jgst. EF zur Standortbestimmung in der Berufsorientierung
DESCRIPTION:
URL:https://www.stiftisches.de/termin/workshop-der-jgst-ef-zur-standortbestimmung-in-der-berufsorientierung/
CATEGORIES:Berufsorientierung
END:VEVENT
BEGIN:VEVENT
DTSTART;TZID=Europe/Berlin:20220929T075000
DTEND;TZID=Europe/Berlin:20220929T130500
DTSTAMP:20260425T233140
CREATED:20220819T101611Z
LAST-MODIFIED:20220819T101611Z
UID:30073-1664437800-1664456700@www.stiftisches.de
SUMMARY:Workshop zur Berufsorientierung für die EF
DESCRIPTION:
URL:https://www.stiftisches.de/termin/workshop-zur-berufsorientierung-fuer-die-ef/
END:VEVENT
BEGIN:VEVENT
DTSTART;TZID=Europe/Berlin:20220929T080000
DTEND;TZID=Europe/Berlin:20221013T170000
DTSTAMP:20260425T233140
CREATED:20220819T101715Z
LAST-MODIFIED:20220819T101715Z
UID:30075-1664438400-1665680400@www.stiftisches.de
SUMMARY:Austauschfahrt nach Pittsburgh
DESCRIPTION:
URL:https://www.stiftisches.de/termin/austauschfahrt-nach-pittsburgh/
END:VEVENT
END:VCALENDAR