BEGIN:VCALENDAR
VERSION:2.0
PRODID:-//Stiftisches Gymnasium Düren - ECPv6.15.20//NONSGML v1.0//EN
CALSCALE:GREGORIAN
METHOD:PUBLISH
X-WR-CALNAME:Stiftisches Gymnasium Düren
X-ORIGINAL-URL:https://www.stiftisches.de
X-WR-CALDESC:Veranstaltungen für Stiftisches Gymnasium Düren
REFRESH-INTERVAL;VALUE=DURATION:PT1H
X-Robots-Tag:noindex
X-PUBLISHED-TTL:PT1H
BEGIN:VTIMEZONE
TZID:Europe/Berlin
BEGIN:DAYLIGHT
TZOFFSETFROM:+0100
TZOFFSETTO:+0200
TZNAME:CEST
DTSTART:20220327T010000
END:DAYLIGHT
BEGIN:STANDARD
TZOFFSETFROM:+0200
TZOFFSETTO:+0100
TZNAME:CET
DTSTART:20221030T010000
END:STANDARD
BEGIN:DAYLIGHT
TZOFFSETFROM:+0100
TZOFFSETTO:+0200
TZNAME:CEST
DTSTART:20230326T010000
END:DAYLIGHT
BEGIN:STANDARD
TZOFFSETFROM:+0200
TZOFFSETTO:+0100
TZNAME:CET
DTSTART:20231029T010000
END:STANDARD
BEGIN:DAYLIGHT
TZOFFSETFROM:+0100
TZOFFSETTO:+0200
TZNAME:CEST
DTSTART:20240331T010000
END:DAYLIGHT
BEGIN:STANDARD
TZOFFSETFROM:+0200
TZOFFSETTO:+0100
TZNAME:CET
DTSTART:20241027T010000
END:STANDARD
END:VTIMEZONE
BEGIN:VEVENT
DTSTART;VALUE=DATE:20230206
DTEND;VALUE=DATE:20230225
DTSTAMP:20260425T193350
CREATED:20230113T101038Z
LAST-MODIFIED:20230113T101038Z
UID:30973-1675641600-1677283199@www.stiftisches.de
SUMMARY:Anmeldezeitraum für das Schuljahr 2023/24
DESCRIPTION:außer an den Karnevalstagen (16.-21.02.)
URL:https://www.stiftisches.de/termin/anmeldezeitraum-fuer-das-schuljahr-2023-24/
END:VEVENT
BEGIN:VEVENT
DTSTART;VALUE=DATE:20230216
DTEND;VALUE=DATE:20230217
DTSTAMP:20260425T193350
CREATED:20230113T101149Z
LAST-MODIFIED:20230216T090649Z
UID:30975-1676505600-1676591999@www.stiftisches.de
SUMMARY:Weiberfastnacht
DESCRIPTION:Karnevalsfeier für die Jahrgangsstufen 5 und 6 in der Aula. Der Unterricht endet um 12:40 Uhr.
URL:https://www.stiftisches.de/termin/weiberfastnacht-2/
CATEGORIES:Feiern
END:VEVENT
END:VCALENDAR