BEGIN:VCALENDAR
VERSION:2.0
PRODID:-//Stiftisches Gymnasium Düren - ECPv6.15.20//NONSGML v1.0//EN
CALSCALE:GREGORIAN
METHOD:PUBLISH
X-WR-CALNAME:Stiftisches Gymnasium Düren
X-ORIGINAL-URL:https://www.stiftisches.de
X-WR-CALDESC:Veranstaltungen für Stiftisches Gymnasium Düren
REFRESH-INTERVAL;VALUE=DURATION:PT1H
X-Robots-Tag:noindex
X-PUBLISHED-TTL:PT1H
BEGIN:VTIMEZONE
TZID:Europe/Berlin
BEGIN:DAYLIGHT
TZOFFSETFROM:+0100
TZOFFSETTO:+0200
TZNAME:CEST
DTSTART:20210328T010000
END:DAYLIGHT
BEGIN:STANDARD
TZOFFSETFROM:+0200
TZOFFSETTO:+0100
TZNAME:CET
DTSTART:20211031T010000
END:STANDARD
BEGIN:DAYLIGHT
TZOFFSETFROM:+0100
TZOFFSETTO:+0200
TZNAME:CEST
DTSTART:20220327T010000
END:DAYLIGHT
BEGIN:STANDARD
TZOFFSETFROM:+0200
TZOFFSETTO:+0100
TZNAME:CET
DTSTART:20221030T010000
END:STANDARD
BEGIN:DAYLIGHT
TZOFFSETFROM:+0100
TZOFFSETTO:+0200
TZNAME:CEST
DTSTART:20230326T010000
END:DAYLIGHT
BEGIN:STANDARD
TZOFFSETFROM:+0200
TZOFFSETTO:+0100
TZNAME:CET
DTSTART:20231029T010000
END:STANDARD
END:VTIMEZONE
BEGIN:VEVENT
DTSTART;TZID=Europe/Berlin:20221121T080000
DTEND;TZID=Europe/Berlin:20221124T170000
DTSTAMP:20260425T213617
CREATED:20220819T172438Z
LAST-MODIFIED:20220819T172438Z
UID:30122-1669017600-1669309200@www.stiftisches.de
SUMMARY:Potentialanalyse Jgst.8
DESCRIPTION:
URL:https://www.stiftisches.de/termin/potentialanalyse-jgst-8/
CATEGORIES:Berufsorientierung
END:VEVENT
BEGIN:VEVENT
DTSTART;VALUE=DATE:20221122
DTEND;VALUE=DATE:20221123
DTSTAMP:20260425T213617
CREATED:20220821T110729Z
LAST-MODIFIED:20220821T110729Z
UID:30136-1669075200-1669161599@www.stiftisches.de
SUMMARY:Theaterstück "Alles kaputt" für die Jgst.6
DESCRIPTION:
URL:https://www.stiftisches.de/termin/theaterstueck-alles-kaputt-fuer-die-jgst-6/
CATEGORIES:Theateraufführungen
END:VEVENT
BEGIN:VEVENT
DTSTART;TZID=Europe/Berlin:20221122T150000
DTEND;TZID=Europe/Berlin:20221122T150000
DTSTAMP:20260425T213617
CREATED:20220819T172059Z
LAST-MODIFIED:20220819T172059Z
UID:30112-1669129200-1669129200@www.stiftisches.de
SUMMARY:Latein-AG für Grundschülerinnen und Grundschüler
DESCRIPTION:
URL:https://www.stiftisches.de/termin/latein-ag-fuer-grundschuelerinnen-und-grundschueler-4/
END:VEVENT
END:VCALENDAR